BEGIN:VCALENDAR
VERSION:2.0
PRODID:-//Intand Corporation//Tandem//EN
METHOD:PUBLISH
BEGIN:VEVENT
DTSTAMP:20260419T150819Z
DTSTART:20260417T220000Z
DTEND:20260417T232000Z
TRANSP:TRANSPARENT
PRIORITY:0
SUMMARY:JV Boys Lax @ St. Johnsbury
LOCATION:ST. JOHNSBURY ACADEMY
DESCRIPTION:Depart: 2:30 pm\nReturn: 8:30 pm\n\nGroups:\nJV Boys Lax\n\nSc
 hools:\nST. JOHNSBURY ACADEMY\n\nLocation:\nST. JOHNSBURY ACADEMY\n\n
URL;VALUE=URI:https://montpelierschools.tandem.co/index.php?type=view&acti
 on=event&id=29001
CREATED:20260416T170403Z
LAST-MODIFIED:20260416T170403Z
UID:event-29001-montpelierschools@intand.com
END:VEVENT
END:VCALENDAR
