BEGIN:VCALENDAR
VERSION:2.0
PRODID:-//Intand Corporation//Tandem//EN
METHOD:PUBLISH
BEGIN:VEVENT
DTSTAMP:20260424T215612Z
DTSTART:20260403T191500Z
DTEND:20260403T203000Z
TRANSP:TRANSPARENT
PRIORITY:0
SUMMARY:HS Track and Field practice
LOCATION:Montpelier High School Gym
DESCRIPTION:Groups:\nHS Track and Field\n\nLocation:\nMontpelier High Scho
 ol Gym\n\n
URL;VALUE=URI:http://montpelierschools.tandem.co/index.php?type=view&actio
 n=event&id=28430
CREATED:20260309T192701Z
LAST-MODIFIED:20260324T160434Z
UID:event-28430-montpelierschools@intand.com
END:VEVENT
END:VCALENDAR
