BEGIN:VCALENDAR
VERSION:2.0
PRODID:-//Intand Corporation//Tandem//EN
METHOD:PUBLISH
BEGIN:VEVENT
DTSTAMP:20260425T011021Z
DTSTART:20260504T193000Z
DTEND:20260504T210000Z
TRANSP:TRANSPARENT
PRIORITY:0
SUMMARY:V Boys Ult practice
LOCATION:Peyton Smith Field (MHS)
DESCRIPTION:Location:\nPeyton Smith Field (MHS)\n\n
URL;VALUE=URI:http://montpelierschools.tandem.co/index.php?type=view&actio
 n=event&id=28196
CREATED:20260306T175644Z
LAST-MODIFIED:20260306T175644Z
UID:event-28196-montpelierschools@intand.com
END:VEVENT
END:VCALENDAR
