BEGIN:VCALENDAR
VERSION:2.0
PRODID:-//Intand Corporation//Tandem//EN
METHOD:PUBLISH
BEGIN:VEVENT
DTSTAMP:20260425T011355Z
DTSTART:20260505T191500Z
DTEND:20260505T204500Z
TRANSP:TRANSPARENT
PRIORITY:0
SUMMARY:V BTEN practice
LOCATION:Montpelier High School Tennis Courts
DESCRIPTION:Groups:\nVarsity Boys Tennis\n\nLocation:\nMontpelier High Sch
 ool Tennis Courts\n\n
URL;VALUE=URI:http://montpelierschools.tandem.co/index.php?type=view&actio
 n=event&id=28119
CREATED:20260305T174456Z
LAST-MODIFIED:20260310T173351Z
UID:event-28119-montpelierschools@intand.com
END:VEVENT
END:VCALENDAR
