BEGIN:VCALENDAR
VERSION:2.0
PRODID:-//Intand Corporation//Tandem//EN
METHOD:PUBLISH
BEGIN:VEVENT
DTSTAMP:20260425T011042Z
DTSTART:20260605T193000Z
DTEND:20260605T220000Z
TRANSP:TRANSPARENT
PRIORITY:0
SUMMARY:V Track and Field @ D2 State Meet
LOCATION:BURLINGTON SENIOR HIGH SCH
DESCRIPTION:Depart: 1:20 pm\nReturn: 7:00 pm\n\nGroups:\nHS Track and Fiel
 d\n\nSchools:\nBURLINGTON SENIOR HIGH SCH\n\nLocation:\nBURLINGTON SENIOR 
 HIGH SCH\n\n
URL;VALUE=URI:http://montpelierschools.tandem.co/index.php?type=view&actio
 n=event&id=28088
CREATED:20260305T170906Z
LAST-MODIFIED:20260305T170906Z
UID:event-28088-montpelierschools@intand.com
END:VEVENT
END:VCALENDAR
