BEGIN:VCALENDAR
VERSION:2.0
PRODID:-//Intand Corporation//Tandem//EN
METHOD:PUBLISH
BEGIN:VEVENT
DTSTAMP:20260425T010220Z
DTSTART:20260601T193000Z
DTEND:20260601T220000Z
TRANSP:TRANSPARENT
PRIORITY:0
SUMMARY:V Track and Field @ MMU Last Chance
LOCATION:Mount Mansfield Union High School
DESCRIPTION:Depart: 1:30 pm\nReturn: 7:00 pm\n\nGroups:\nHS Track and Fiel
 d\n\nLocation:\nMount Mansfield Union High School\n\n
URL;VALUE=URI:http://montpelierschools.tandem.co/index.php?type=view&actio
 n=event&id=28087
CREATED:20260305T170838Z
LAST-MODIFIED:20260305T170838Z
UID:event-28087-montpelierschools@intand.com
END:VEVENT
END:VCALENDAR
