BEGIN:VCALENDAR
VERSION:2.0
PRODID:-//Intand Corporation//Tandem//EN
METHOD:PUBLISH
BEGIN:VEVENT
DTSTAMP:20260425T010948Z
DTSTART:20260512T193000Z
DTEND:20260512T220000Z
TRANSP:TRANSPARENT
PRIORITY:0
SUMMARY:V Track and Field @ St. Johnsbury
LOCATION:ST. JOHNSBURY ACADEMY
DESCRIPTION:Depart: 1:30 pm\nReturn: 7:00 pm\n\nGroups:\nHS Track and Fiel
 d\n\nSchools:\nST. JOHNSBURY ACADEMY\n\nLocation:\nST. JOHNSBURY ACADEMY\n
 \n
URL;VALUE=URI:http://montpelierschools.tandem.co/index.php?type=view&actio
 n=event&id=28083
CREATED:20260305T170610Z
LAST-MODIFIED:20260305T170610Z
UID:event-28083-montpelierschools@intand.com
END:VEVENT
END:VCALENDAR
