BEGIN:VCALENDAR
VERSION:2.0
PRODID:-//Intand Corporation//Tandem//EN
METHOD:PUBLISH
BEGIN:VEVENT
DTSTAMP:20260424T215545Z
DTSTART:20260429T193000Z
DTEND:20260429T220000Z
TRANSP:TRANSPARENT
PRIORITY:0
SUMMARY:V Track and Field @ Lyndon Institute
LOCATION:LYNDON INSTITUTE
DESCRIPTION:Depart: 1:20 pm\nReturn: 7:00 pm\n\nGroups:\nHS Track and Fiel
 d\n\nSchools:\nLYNDON INSTITUTE\n\nLocation:\nLYNDON INSTITUTE\n\n
URL;VALUE=URI:http://montpelierschools.tandem.co/index.php?type=view&actio
 n=event&id=28081
CREATED:20260305T170450Z
LAST-MODIFIED:20260305T170450Z
UID:event-28081-montpelierschools@intand.com
END:VEVENT
END:VCALENDAR
