BEGIN:VCALENDAR
VERSION:2.0
PRODID:-//Intand Corporation//Tandem//EN
METHOD:PUBLISH
BEGIN:VEVENT
DTSTAMP:20260425T005409Z
DTSTART:20260516T150000Z
DTEND:20260516T163000Z
TRANSP:TRANSPARENT
PRIORITY:0
SUMMARY:V Boys Lax vs. Lyndon Institute
LOCATION:Montpelier High School
DESCRIPTION:Groups:\nVarsity Boys Lacrosse\n\nLocation:\nMontpelier High S
 chool\n\n
URL;VALUE=URI:http://montpelierschools.tandem.co/index.php?type=view&actio
 n=event&id=28061
CREATED:20260305T165201Z
LAST-MODIFIED:20260305T165201Z
UID:event-28061-montpelierschools@intand.com
END:VEVENT
END:VCALENDAR
