BEGIN:VCALENDAR
VERSION:2.0
PRODID:-//Intand Corporation//Tandem//EN
METHOD:PUBLISH
BEGIN:VEVENT
DTSTAMP:20260425T005250Z
DTSTART:20260528T200000Z
DTEND:20260528T213000Z
TRANSP:TRANSPARENT
PRIORITY:0
SUMMARY:V Boys Lax @ Rutland
LOCATION:RUTLAND SENIOR HIGH SCHOOL
DESCRIPTION:Depart: 1:45 pm\nReturn: 7:15 pm\n\nGroups:\nVarsity Boys Lacr
 osse\n\nSchools:\nRUTLAND SENIOR HIGH SCHOOL\n\nLocation:\nRUTLAND SENIOR 
 HIGH SCHOOL\n\n
URL;VALUE=URI:http://montpelierschools.tandem.co/index.php?type=view&actio
 n=event&id=28056
CREATED:20260305T165102Z
LAST-MODIFIED:20260305T165102Z
UID:event-28056-montpelierschools@intand.com
END:VEVENT
END:VCALENDAR
