BEGIN:VCALENDAR
VERSION:2.0
PRODID:-//Intand Corporation//Tandem//EN
METHOD:PUBLISH
BEGIN:VEVENT
DTSTAMP:20260424T215437Z
DTSTART:20260501T200000Z
DTEND:20260501T213000Z
TRANSP:TRANSPARENT
PRIORITY:0
SUMMARY:V Boys Ult vs. Colchester
LOCATION:Peyton Smith Field (MHS)
DESCRIPTION:Groups:\nVarsity Boys Ultimate\n\nLocation:\nPeyton Smith Fiel
 d (MHS)\n\n
URL;VALUE=URI:http://montpelierschools.tandem.co/index.php?type=view&actio
 n=event&id=28046
CREATED:20260305T164359Z
LAST-MODIFIED:20260305T164359Z
UID:event-28046-montpelierschools@intand.com
END:VEVENT
END:VCALENDAR
