BEGIN:VCALENDAR
VERSION:2.0
PRODID:-//Intand Corporation//Tandem//EN
METHOD:PUBLISH
BEGIN:VEVENT
DTSTAMP:20260423T225358Z
DTSTART:20260519T203000Z
DTEND:20260519T223000Z
TRANSP:TRANSPARENT
PRIORITY:0
SUMMARY:V Baseball vs. Randolph
LOCATION:Montpelier Recreation Field
DESCRIPTION:Groups:\nVarsity Baseball\n\nLocation:\nMontpelier Recreation 
 Field\n\n
URL;VALUE=URI:http://montpelierschools.tandem.co/index.php?type=view&actio
 n=event&id=28035
CREATED:20260305T164001Z
LAST-MODIFIED:20260305T164001Z
UID:event-28035-montpelierschools@intand.com
END:VEVENT
END:VCALENDAR
