BEGIN:VCALENDAR
VERSION:2.0
PRODID:-//Intand Corporation//Tandem//EN
METHOD:PUBLISH
BEGIN:VEVENT
DTSTAMP:20260424T215437Z
DTSTART:20260501T200000Z
DTEND:20260501T220000Z
TRANSP:TRANSPARENT
PRIORITY:0
SUMMARY:MS Baseball @ Peoples Academy
LOCATION:STOWE ELEMENTARY
DESCRIPTION:Depart: 2:30 pm\n\nGroups:\n7/8 Baseball\n\nSchools:\nSTOWE EL
 EMENTARY\n\nLocation:\nSTOWE ELEMENTARY\n\n
URL;VALUE=URI:http://montpelierschools.tandem.co/index.php?type=view&actio
 n=event&id=28013
CREATED:20260305T163153Z
LAST-MODIFIED:20260305T163153Z
UID:event-28013-montpelierschools@intand.com
END:VEVENT
END:VCALENDAR
