BEGIN:VCALENDAR
VERSION:2.0
PRODID:-//Intand Corporation//Tandem//EN
METHOD:PUBLISH
BEGIN:VEVENT
DTSTAMP:20260425T010949Z
DTSTART:20260505T204500Z
DTEND:20260505T221500Z
TRANSP:TRANSPARENT
PRIORITY:0
SUMMARY:MS Boys Lax @ Randolph
LOCATION:Randolph Union High School
DESCRIPTION:Depart: 3:45 pm\nReturn: 7:00 pm\n\nGroups:\nMS Boys Lax\n\nLo
 cation:\nRandolph Union High School\n\n
URL;VALUE=URI:http://montpelierschools.tandem.co/index.php?type=view&actio
 n=event&id=28007
CREATED:20260305T162931Z
LAST-MODIFIED:20260406T163432Z
UID:event-28007-montpelierschools@intand.com
END:VEVENT
END:VCALENDAR
